Workbook

Sheet Datos Generales
A1: INFORMACION HISTÓRICA DE VENTAS
A2: AÑO | B2: UNIDADES | C2: PV. UNIT. | D2: TOTAL VENTAS
A3: 1 | B3: 12000 | C3: 80000 | D3: =+B3*C3 -> 960000000
A4: 2 | B4: 15000 | C4: 85000 | D4: =+B4*C4 -> 1275000000
A5: 3 | B5: 13000 | C5: 90000 | D5: =+B5*C5 -> 1170000000
A6: 4 | B6: 15000 | C6: 95000 | D6: =+B6*C6 -> 1425000000
A7: 5 | B7: 18000 | C7: 100000 | D7: =+B7*C7 -> 1800000000

Sheet Incr. %
A1: PRESUPUESTO INCREMENTO %
A2: =+'Datos Generales'!A2 -> AÑO | B2: =+'Datos Generales'!B2 -> UNIDADES
A3: =+'Datos Generales'!A3 -> 1 | B3: =+'Datos Generales'!B3 -> 12000 | C3: 0
A4: =+'Datos Generales'!A4 -> 2 | B4: =+'Datos Generales'!B4 -> 15000 | C4: =+(B4-B3)/B3 -> 0.25
A5: =+'Datos Generales'!A5 -> 3 | B5: =+'Datos Generales'!B5 -> 13000 | C5: =+(B5-B4)/B4 -> -0.13333333
A6: =+'Datos Generales'!A6 -> 4 | B6: =+'Datos Generales'!B6 -> 15000 | C6: =+(B6-B5)/B5 -> 0.15384615
A7: =+'Datos Generales'!A7 -> 5 | B7: =+'Datos Generales'!B7 -> 18000 | C7: =+(B7-B6)/B6 -> 0.2
A8: Sumatoriadel Incre. % | C8: =SUM(C3:C7) -> 0.47051282
A9: Promedio Incr. % | C9: =+C8/(A7-1) -> 0.11762821
A10: Presupuesto año 2026 | C10: =+B7*(1+C9) -> 20117.308

Sheet Incr. Absoluto
A1: PRESUPUESTO INCREMENTO ABSOLUTO
A2: =+'Datos Generales'!A2 -> AÑO | B2: =+'Datos Generales'!B2 -> UNIDADES
A3: =+'Datos Generales'!A3 -> 1 | B3: =+'Datos Generales'!B3 -> 12000 | C3: 0
A4: =+'Datos Generales'!A4 -> 2 | B4: =+'Datos Generales'!B4 -> 15000 | C4: =+B4-B3 -> 3000
A5: =+'Datos Generales'!A5 -> 3 | B5: =+'Datos Generales'!B5 -> 13000 | C5: =+B5-B4 -> -2000
A6: =+'Datos Generales'!A6 -> 4 | B6: =+'Datos Generales'!B6 -> 15000 | C6: =+B6-B5 -> 2000
A7: =+'Datos Generales'!A7 -> 5 | B7: =+'Datos Generales'!B7 -> 18000 | C7: =+B7-B6 -> 3000
A8: Sumatoria Increm Absluto | C8: =SUM(C3:C7) -> 6000
A9: Promedio Incr. Absoluto | C9: =+C8/(A7-1) -> 1500
A10: Presupuesto año 2026 | C10: =+B7+C9 -> 19500

Sheet Min. Cuadrados
A1: PRESUPUESTO DE VENTAS MINIMOS CUADRADOS
A2: =+'Datos Generales'!A2 -> AÑO | B2: =+'Datos Generales'!B2 -> UNIDADES
A3: X | B3: Y | C3: X.Y | D3: X 2
A4: =+'Datos Generales'!A3 -> 1 | B4: =+'Datos Generales'!B3 -> 12000 | C4: =+A4*B4 -> 12000 | D4: =+A4^2 -> 1
A5: =+'Datos Generales'!A4 -> 2 | B5: =+'Datos Generales'!B4 -> 15000 | C5: =+A5*B5 -> 30000 | D5: =+A5^2 -> 4
A6: =+'Datos Generales'!A5 -> 3 | B6: =+'Datos Generales'!B5 -> 13000 | C6: =+A6*B6 -> 39000 | D6: =+A6^2 -> 9
A7: =+'Datos Generales'!A6 -> 4 | B7: =+'Datos Generales'!B6 -> 15000 | C7: =+A7*B7 -> 60000 | D7: =+A7^2 -> 16
A8: =+'Datos Generales'!A7 -> 5 | B8: =+'Datos Generales'!B7 -> 18000 | C8: =+A8*B8 -> 90000 | D8: =+A8^2 -> 25
A9: =SUM(A4:A8) -> 15 | B9: =SUM(B4:B8) -> 73000 | C9: =SUM(C4:C8) -> 231000 | D9: =SUM(D4:D8) -> 55
A10: n= | B10: 5
D11: PRESUPUESTO DE VENTAS 20206
A12: b= | B12: =+((B10*C9)-(A9*B9))/((B10*D9)-(A9^2)) -> 1200 | E12: =+B14 -> 18200
A13: a= | B13: =(B9-(B12*A9))/B10 -> 11000
A14: y= | B14: =+B13+B12*(6) -> 18200

Sheet PA-PB
A1: PRESUPUESTO DE VENTAS P.A - P.B.
A2: =+'Datos Generales'!A2 -> AÑO | B2: =+'Datos Generales'!B2 -> UNIDADES | D2: MÉTODO | E2: X | F2: Y
A3: X | B3: Y | D3: PUNTO ALTO | E3: =+A8 -> 5 | F3: =+B8 -> 18000
A4: =+'Datos Generales'!A3 -> 1 | B4: =+'Datos Generales'!B3 -> 12000 | D4: PUNTO BAJO | E4: =+A4 -> 1 | F4: =+B4 -> 12000
A5: =+'Datos Generales'!A4 -> 2 | B5: =+'Datos Generales'!B4 -> 15000 | D5: DIFERENCIA | E5: =+E3-E4 -> 4 | F5: =+F3-F4 -> 6000
A6: =+'Datos Generales'!A5 -> 3 | B6: =+'Datos Generales'!B5 -> 13000 | D6: b= | F6: =+F5/E5 -> 1500
A7: =+'Datos Generales'!A6 -> 4 | B7: =+'Datos Generales'!B6 -> 15000 | D7: Remplazamos con el P.A
A8: =+'Datos Generales'!A7 -> 5 | B8: =+'Datos Generales'!B7 -> 18000 | D8: Y = a + b.x
A9: =SUM(A4:A8) -> 15 | B9: =SUM(B4:B8) -> 73000 | D9: 18000 | E9: = a + (1.500 x 5) = | F9: =+F6*E3 -> 7500
D10: Despejando a= | E10: 18.000 - 7.500 a = | F10: =+D9-F9 -> 10500
A11: PRESUPUESTO DE VENTAS P.A- P.B. | D11: y= | E11: 10.500+ (1.500 x 5)= | F11: =+F10+(F6*(A8+1)) -> 19500
A12: =+F17 -> 19500
D13: Remplazamos con el P.A
D14: Y = a + b.x
D15: =+F4 -> 12000 | E15: = a + (1.500 x 1) = | F15: =+F6*E4 -> 1500
D16: Despejando a= | E16: 12.000 - 1.500 a = | F16: =+D15-F15 -> 10500
D17: y= | E17: 10.500+ (1.500 x 6)= | F17: =F16+(F6*(A8+1)) -> 19500

Sheet Resumen Presup de ventas
A1: RESUMEN PRESUPUESTAL TODOS LOS MÉTODOS
A2: Año 2026
A3: Incremento % | B3: =+'Incr. %'!C10 -> 20117.308
A4: Incremento Absoluto | B4: =+'Incr. Absoluto'!C10 -> 19500
A5: Minimos Cuadrados | B5: =+'Min. Cuadrados'!B14 -> 18200 | C5: Proyeccion de venta
A6: P.A. - P.B. | B6: =+'PA-PB'!A12 -> 19500

Sheet Ficha técnica
A1: FICHA TÉCNICA DEL PRODUCTO
A3: Nombre del producto | B3: Conjunto Deportivo Dama (Top + Leggings)
A4: Talla | B4: Única
A5: Técnica de confección | B5: Sellado térmico (termosellado) sin hilo
A6: Composición por prenda | B6: Leggings: Poliéster | Top: Spandex
A7: Colores de referencia | B7: Top azul con detalles rosados; leggings estampado multicolor
A8: Uso recomendado | B8: Fitness, yoga, running y uso casual
A9: Propiedades | B9: Secado rápido, elasticidad, control de humedad
A10: Cuidados | B10: Lavado suave en frío, no blanquear, secado a la sombra, no planchar directamente sobre uniones termoselladas
A12: Ficha Técnica | B12: CONSUMO DE MPD POR UNIDAD
B13: Material | D13: Unidad de Medida | E13: Consumo por unidad | H13: Costo unitario
B14: =[1]Presupuesto!A2 -> Tela principal Leggins | D14: =[1]Presupuesto!B2 -> metro | E14: 1 | H14: =[1]Presupuesto!E2 -> 15000
B15: =[1]Presupuesto!A3 -> Tela principal Top | D15: =[1]Presupuesto!B3 -> metro | E15: 0.5 | H15: =[1]Presupuesto!E3 -> 22000
B16: =[1]Presupuesto!A4 -> Cinta adhesiva termofusible | D16: =[1]Presupuesto!B4 -> metro | E16: =[1]Presupuesto!C4 -> 2 | H16: =[1]Presupuesto!E4 -> 1500
B17: =[1]Presupuesto!A5 -> Elástico termosellable | D17: =[1]Presupuesto!B5 -> metro | E17: =[1]Presupuesto!C5 -> 1 | H17: =[1]Presupuesto!E5 -> 1000

Sheet Presupuesto de producción
A1: Politicas generales sobre inventarios | G1: Concepto | H1: Ene | I1: Feb | J1: Mar | K1: Abr | L1: May | M1: Jun | N1: Jul | O1: Ago | P1: Sep | Q1: Oct | R1: Nov | S1: Dic | T1: TOTALES
A3: Niveles de inventarios de productos terminados: | G3: Ventas presupuestadas | H3: =+E11 -> 910 | I3: =+E12 -> 910 | J3: =+E13 -> 1274 | K3: =+E14 -> 1456 | L3: =+E15 -> 1820 | M3: =+E16 -> 1820 | N3: =+E17 -> 1456 | O3: =+E18 -> 1274 | P3: =+E19 -> 1456 | Q3: =+E20 -> 2184 | R3: =+E21 -> 2730 | S3: =+E22 -> 910 | T3: =SUM(H3:S3) -> 18200
A4: Inventario inicial deseado: | D4: 500 | G4: Inv Final | H4: =5%*H3 -> 45.5 | I4: =5%*I3 -> 45.5 | J4: =5%*J3 -> 63.7 | K4: =5%*K3 -> 72.8 | L4: =5%*L3 -> 91 | M4: =5%*M3 -> 91 | N4: =5%*N3 -> 72.8 | O4: =5%*O3 -> 63.7 | ... R4: =5%*R3 -> 136.5 | S4: 300 | T4: =+S4 -> 300
A5: Inventario Final deseado | D5: 300 | G5: Necesdades de producc. | H5: =SUM(H3:H4) -> 955.5 | I5: =SUM(I3:I4) -> 955.5 | J5: =SUM(J3:J4) -> 1337.7 | K5: =SUM(K3:K4) -> 1528.8 | L5: =SUM(L3:L4) -> 1911 | M5: =SUM(M3:M4) -> 1911 | N5: =SUM(N3:N4) -> 1528.8 | O5: =SUM(O3:O4) -> 1337.7 | ... T5: =SUM(T3:T4) -> 18500
G6: Inventario Inicial | H6: -150 | I6: =-H4 -> -45.5 | J6: =-I4 -> -45.5 | K6: =-J4 -> -63.7 | L6: =-K4 -> -72.8 | M6: =-L4 -> -91 | N6: =-M4 -> -91 | O6: =-N4 -> -72.8 | P6: =-O4 -> -63.7 | ... S6: =-R4 -> -136.5 | T6: =+H6 -> -150
A7: Política sobre inventarios de productos terminados: La empresa desea tener en existencias, al final del año, un inventario de 200 unidades y para el I.F. de MPD: Desea tener en existencia al inicio y al final del año 2026 el 5% del volumen de producción del respectivo mes. | G7: Producción Requeria por mes | H7: =SUM(H5:H6) -> 805.5 | I7: =SUM(I5:I6) -> 910 | J7: =SUM(J5:J6) -> 1292.2 | K7: =SUM(K5:K6) -> 1465.1 | L7: =SUM(L5:L6) -> 1838.2 | M7: =SUM(M5:M6) -> 1820 | N7: =SUM(N5:N6) -> 1437.8 | O7: =SUM(O5:O6) -> 1264.9 | ... T7: =SUM(T5:T6) -> 18350
A9: Distribución porcentual de las ventas:
A10: PRESUPUESTO DE VENTAS AÑO 2026 | E10: =+'Resumen Presup de ventas'!B5 -> 18200
A11: Enero | B11: 0.05 | E11: =$E$10*B11 -> 910
A12: Febrero | B12: 0.05 | E12: =$E$10*B12 -> 910
A13: Marzo | B13: 0.07 | E13: =$E$10*B13 -> 1274
A14: Abril | B14: 0.08 | E14: =$E$10*B14 -> 1456
A15: Mayo | B15: 0.1 | E15: =$E$10*B15 -> 1820
A16: Junio | B16: 0.1 | E16: =$E$10*B16 -> 1820
A17: Julio | B17: 0.08 | E17: =$E$10*B17 -> 1456
A18: Agosto | B18: 0.07 | E18: =$E$10*B18 -> 1274
A19: Septiembre | B19: 0.08 | E19: =$E$10*B19 -> 1456
A20: Octubre | B20: 0.12 | E20: =$E$10*B20 -> 2184
A21: Noviembre | B21: 0.15 | E21: =$E$10*B21 -> 2730
A22: Diciembre | B22: 0.05 | E22: =$E$10*B22 -> 910
A23: Totales | B23: =SUM(B11:B22) -> 1 | E23: =SUM(E11:E22) -> 18200

Sheet Presupuesto de consumo de MPD
A1: PRESUPUESTO DE COMPRAS DE M.P.D.
A2: =+'Ficha técnica'!B14 -> Tela principal Leggins
A3: MES | B3: DESCRIPCION | C3: UNIDAD DE MEDIDA | D3: CONSUMO POR UNIDAD | E3: PPTO DE PDCCIÓN | F3: INV. INICIAL | G3: INV. FINAL | H3: MATERIA PRIMA REQUERIDA | I3: COSTO MPD POR MT | J3: COSTO TOTAL MPD
G4: FINAL
A5: ENERO | B5: =+$A$2 -> Tela principal Leggins | C5: Mt | D5: =+'Ficha técnica'!$E$14 -> 1 | E5: =+'Presupuesto de producción'!H7 -> 805.5 | F5: =+E5*5% -> 40.275 | G5: =+E5*5% -> 40.275 | H5: =$D$5*(E5-F5+G5) -> 805.5 | I5: =+'Ficha técnica'!$H$14 -> 15000 | J5: =+H5*I5 -> 12082500
A6: FEBRERO | B6: =+$A$2 -> Tela principal Leggins | C6: Mt | E6: =+'Presupuesto de producción'!I7 -> 910 | F6: =+G5 -> 40.275 | G6: =+E6*5% -> 45.5 | H6: =$D$5*(E6-F6+G6) -> 915.225 | I6: =+'Ficha técnica'!$H$14 -> 15000 | J6: =+H6*I6 -> 13728375
A7: MARZO | B7: =+$A$2 -> Tela principal Leggins | C7: Mt | E7: =+'Presupuesto de producción'!J7 -> 1292.2 | F7: =+G6 -> 45.5 | G7: =+E7*5% -> 64.61 | H7: =$D$5*(E7-F7+G7) -> 1311.31 | I7: =+'Ficha técnica'!$H$14 -> 15000 | J7: =+H7*I7 -> 19669650
A8: ABRIL | B8: =+$A$2 -> Tela principal Leggins | C8: Mt | E8: =+'Presupuesto de producción'!K7 -> 1465.1 | F8: =+G7 -> 64.61 | G8: =+E8*5% -> 73.255 | H8: =$D$5*(E8-F8+G8) -> 1473.745 | I8: =+'Ficha técnica'!$H$14 -> 15000 | J8: =+H8*I8 -> 22106175
A9: MAYO | B9: =+$A$2 -> Tela principal Leggins | C9: Mt | E9: =+'Presupuesto de producción'!L7 -> 1838.2 | F9: =+G8 -> 73.255 | G9: =+E9*5% -> 91.91 | H9: =$D$5*(E9-F9+G9) -> 1856.855 | I9: =+'Ficha técnica'!$H$14 -> 15000 | J9: =+H9*I9 -> 27852825
A10: JUNIO | B10: =+$A$2 -> Tela principal Leggins | C10: Mt | E10: =+'Presupuesto de producción'!M7 -> 1820 | F10: =+G9 -> 91.91 | G10: =+E10*5% -> 91 | H10: =$D$5*(E10-F10+G10) -> 1819.09 | I10: =+'Ficha técnica'!$H$14 -> 15000 | J10: =+H10*I10 -> 27286350
A11: JULIO | B11: =+$A$2 -> Tela principal Leggins | C11: Mt | E11: =+'Presupuesto de producción'!N7 -> 1437.8 | F11: =+G10 -> 91 | G11: =+E11*5% -> 71.89 | H11: =$D$5*(E11-F11+G11) -> 1418.69 | I11: =+'Ficha técnica'!$H$14 -> 15000 | J11: =+H11*I11 -> 21280350
A12: AGOSTO | B12: =+$A$2 -> Tela principal Leggins | C12: Mt | E12: =+'Presupuesto de producción'!O7 -> 1264.9 | F12: =+G11 -> 71.89 | G12: =+E12*5% -> 63.245 | H12: =$D$5*(E12-F12+G12) -> 1256.255 | I12: =+'Ficha técnica'!$H$14 -> 15000 | J12: =+H12*I12 -> 18843825
A13: SEPTIEMBRE | B13: =+$A$2 -> Tela principal Leggins | C13: Mt | E13: =+'Presupuesto de producción'!P7 -> 1465.1 | F13: =+G12 -> 63.245 | G13: =+E13*5% -> 73.255 | H13: =$D$5*(E13-F13+G13) -> 1475.11 | I13: =+'Ficha técnica'!$H$14 -> 15000 | J13: =+H13*I13 -> 22126650
A14: OCTUBRE | B14: =+$A$2 -> Tela principal Leggins | C14: Mt | E14: =+'Presupuesto de producción'!Q7 -> 2220.4 | F14: =+G13 -> 73.255 | G14: =+E14*5% -> 111.02 | H14: =$D$5*(E14-F14+G14) -> 2258.165 | I14: =+'Ficha técnica'!$H$14 -> 15000 | J14: =+H14*I14 -> 33872475
A15: NOVIEMBRE | B15: =+$A$2 -> Tela principal Leggins | C15: Mt | E15: =+'Presupuesto de producción'!R7 -> 2757.3 | F15: =+G14 -> 111.02 | G15: =+E15*5% -> 137.865 | H15: =$D$5*(E15-F15+G15) -> 2784.145 | I15: =+'Ficha técnica'!$H$14 -> 15000 | J15: =+H15*I15 -> 41762175
A16: DICIEMBRE | B16: =+$A$2 -> Tela principal Leggins | C16: Mt | E16: =+'Presupuesto de producción'!S7 -> 1073.5 | F16: =+G15 -> 137.865 | G16: =+E16*5% -> 53.675 | H16: =$D$5*(E16-F16+G16) -> 989.31 | I16: =+'Ficha técnica'!$H$14 -> 15000 | J16: =+H16*I16 -> 14839650
A17: TOTAL PRESUPUESTO ANUAL DE MPD - Leggins | J17: =SUM(J5:J16) -> 275451000
A19: =+'Ficha técnica'!B15 -> Tela principal Top
A20: MES | B20: DESCRIPCION | C20: UNIDAD DE MEDIDA | D20: CONSUMO POR UNIDAD | E20: PPTO DE PDCCIÓN | F20: INV. INICIAL | G20: INV. FINAL | H20: MATERIA PRIMA REQUERIDA | I20: COSTO MPD POR MT | J20: COSTO TOTAL MPD
G21: FINAL
A22: ENERO | B22: =+$A$19 -> Tela principal Top | C22: Mt | D22: =+'Ficha técnica'!E15 -> 0.5 | E22: =+E5 -> 805.5 | F22: =+E22*5% -> 40.275 | G22: =+E22*5% -> 40.275 | H22: =$D$22*(E22-F22+G22) -> 402.75 | I22: =+'Ficha técnica'!$H$15 -> 22000 | J22: =+H22*I22 -> 8860500
A23: FEBRERO | B23: =+$A$19 -> Tela principal Top | C23: Mt | E23: =+E6 -> 910 | F23: =+G22 -> 40.275 | G23: =+E23*5% -> 45.5 | H23: =$D$22*(E23-F23+G23) -> 457.6125 | I23: =+I22 -> 22000 | J23: =+H23*I23 -> 10067475
A24: MARZO | B24: =+$A$19 -> Tela principal Top | C24: Mt | E24: =+E7 -> 1292.2 | F24: =+G23 -> 45.5 | G24: =+E24*5% -> 64.61 | H24: =$D$22*(E24-F24+G24) -> 655.655 | I24: =+I23 -> 22000 | J24: =+H24*I24 -> 14424410
A25: ABRIL | B25: =+$A$19 -> Tela principal Top | C25: Mt | E25: =+E8 -> 1465.1 | F25: =+G24 -> 64.61 | G25: =+E25*5% -> 73.255 | H25: =$D$22*(E25-F25+G25) -> 736.8725 | I25: =+I24 -> 22000 | J25: =+H25*I25 -> 16211195
A26: MAYO | B26: =+$A$19 -> Tela principal Top | C26: Mt | E26: =+E9 -> 1838.2 | F26: =+G25 -> 73.255 | G26: =+E26*5% -> 91.91 | H26: =$D$22*(E26-F26+G26) -> 928.4275 | I26: =+I25 -> 22000 | J26: =+H26*I26 -> 20425405
A27: JUNIO | B27: =+$A$19 -> Tela principal Top | C27: Mt | E27: =+E10 -> 1820 | F27: =+G26 -> 91.91 | G27: =+E27*5% -> 91 | H27: =$D$22*(E27-F27+G27) -> 909.545 | I27: =+I26 -> 22000 | J27: =+H27*I27 -> 20009990
A28: JULIO | B28: =+$A$19 -> Tela principal Top | C28: Mt | E28: =+E11 -> 1437.8 | F28: =+G27 -> 91 | G28: =+E28*5% -> 71.89 | H28: =$D$22*(E28-F28+G28) -> 709.345 | I28: =+I27 -> 22000 | J28: =+H28*I28 -> 15605590
A29: AGOSTO | B29: =+$A$19 -> Tela principal Top | C29: Mt | E29: =+E12 -> 1264.9 | F29: =+G28 -> 71.89 | G29: =+E29*5% -> 63.245 | H29: =$D$22*(E29-F29+G29) -> 628.1275 | I29: =+I28 -> 22000 | J29: =+H29*I29 -> 13818805
A30: SEPTIEMBRE | B30: =+$A$19 -> Tela principal Top | C30: Mt | E30: =+E13 -> 1465.1 | F30: =+G29 -> 63.245 | G30: =+E30*5% -> 73.255 | H30: =$D$22*(E30-F30+G30) -> 737.555 | I30: =+I29 -> 22000 | J30: =+H30*I30 -> 16226210
A31: OCTUBRE | B31: =+$A$19 -> Tela principal Top | C31: Mt | E31: =+E14 -> 2220.4 | F31: =+G30 -> 73.255 | G31: =+E31*5% -> 111.02 | H31: =$D$22*(E31-F31+G31) -> 1129.0825 | I31: =+I30 -> 22000 | J31: =+H31*I31 -> 24839815
A32: NOVIEMBRE | B32: =+$A$19 -> Tela principal Top | C32: Mt | E32: =+E15 -> 2757.3 | F32: =+G31 -> 111.02 | G32: =+E32*5% -> 137.865 | H32: =$D$22*(E32-F32+G32) -> 1392.0725 | I32: =+I31 -> 22000 | J32: =+H32*I32 -> 30625595
A33: DICIEMBRE | B33: =+$A$19 -> Tela principal Top | C33: Mt | E33: =+E16 -> 1073.5 | F33: =+G32 -> 137.865 | G33: =+E33*5% -> 53.675 | H33: =$D$22*(E33-F33+G33) -> 494.655 | I33: =+I32 -> 22000 | J33: =+H33*I33 -> 10882410
A34: TOTAL PRESUPUESTO ANUAL DE MPD - TELA TOP | J34: =SUM(J22:J33) -> 201997400
A36: ='Ficha técnica'!B16 -> Cinta adhesiva termofusible
A37: MES | B37: DESCRIPCION | C37: UNIDAD DE MEDIDA | D37: CONSUMO POR UNIDAD | E37: PPTO DE PDCCIÓN | F37: INV. INICIAL | G37: INV. FINAL | H37: MATERIA PRIMA REQUERIDA | I37: COSTO MPD POR MT | J37: COSTO TOTAL MPD
G38: FINAL
A39: ENERO | B39: Cinta Adhesiva | C39: Mt | D39: =+'Ficha técnica'!E16 -> 2 | E39: =+E22 -> 805.5 | F39: =+E39*5% -> 40.275 | G39: =+E39*5% -> 40.275 | H39: =$D$39*(E39-F39+G39) -> 1611 | I39: =+'Ficha técnica'!$H$16 -> 1500 | J39: =+H39*I39 -> 2416500
A40: FEBRERO | B40: Cinta Adhesiva | C40: Mt | E40: =+E23 -> 910 | F40: =+G39 -> 40.275 | G40: =+E40*3% -> 27.3 | H40: =$D$39*(E40-F40+G40) -> 1794.05 | I40: =+I39 -> 1500 | J40: =+H40*I40 -> 2691075
A41: MARZO | B41: Cinta Adhesiva | C41: Mt | E41: =+E24 -> 1292.2 | F41: =+G40 -> 27.3 | G41: =+E41*3% -> 38.766 | H41: =$D$39*(E41-F41+G41) -> 2607.332 | I41: =+I40 -> 1500 | J41: =+H41*I41 -> 3910998
A42: ABRIL | B42: Cinta Adhesiva | C42: Mt | E42: =+E25 -> 1465.1 | F42: =+G41 -> 38.766 | G42: =+E42*3% -> 43.953 | H42: =$D$39*(E42-F42+G42) -> 2940.574 | I42: =+I41 -> 1500 | J42: =+H42*I42 -> 4410861
...

Sheet Procesos Top-Leggins
A1: Proceso | B1: Minutos por unidad
A2: Diseño | B2: 1
A3: Corte | B3: 1
A4: Confección | B4: 50
A5: Terminado | B5: 6
A6: Empacado | B6: 2
A7: Total | B7: =SUM(B2:B6) -> 60

Sheet Presupuesto MOD 2026
A1: Sport Lyne S.a.s
A2: PRESUPUESTO DE MOD
A3: AÑO 2026
A4: Mes | B4: Producción Mensual | C4: Minutos Totales por mes | D4: Horas Totales | E4: Empleados Requeridos | F4: Salario Basico Mensual | G4: Auxilip de transporte | H4: Total Devengado | I4: Caja de Compensación | J4: Aportes AFP | K4: Aportes ARL | L4: Total Seguridad Social | M4: Prima de Servicios | N4: Cesantías | O4: Interés cesantías | P4: Vacaciones | Q4: Dotación | R4: total Factor Prestacional | S4: Total MOD
D5: =ROUND(#REF!/60,0) -> #REF! | F5: 1800000 | G5: 220000 | H5: =SUM(F5:G5) -> 2020000 | I5: 0.04 | J5: 0.12 | K5: 0.02436 | L5: =SUM(I5:K5) -> 0.18436 | M5: 0.0833 | N5: 0.0833 | O5: 0.01 | P5: 0.0417 | Q5: 0.03 | R5: =SUM(M5:Q5) -> 0.2483
A6: Enero | B6: =+'Presupuesto de consumo de MPD'!E5 -> 805.5 | C6: =B6*'Procesos Top-Leggins'!$B$7 -> 48330 | D6: =C6/60 -> 805.5 | E6: =ROUND(D6/182,0) -> 4 | F6: =+$F$5*E6 -> 7200000 | G6: =+$G$5*E6 -> 880000 | H6: =SUM(F6:G6) -> 8080000 | I6: =F6*$I$5 -> 288000 | J6: =F6*$J$5 -> 864000 | K6: =F6*$K$5 -> 175392 | L6: =SUM(I6:K6) -> 1327392 | M6: =+(H6)*$M$5 -> 673064 | N6: =H6*$N$5 -> 673064 | O6: =H6*$O$5 -> 80800 | P6: =F6*$P$5 -> 300240 | Q6: =F6*$Q$5 -> 216000 | R6: =SUM(M6:Q6) -> 1943168 | S6: =+H6+L6+R6 -> 11350560
A7: Febrero | B7: =+'Presupuesto de consumo de MPD'!E6 -> 910 | C7: =B7*'Procesos Top-Leggins'!$B$7 -> 54600 | D7: =C7/60 -> 910 | E7: =ROUND(D7/182,0) -> 5 | F7: =+$F$5*E7 -> 9000000 | G7: =+$G$5*E7 -> 1100000 | H7: =SUM(F7:G7) -> 10100000 | I7: =F7*$I$5 -> 360000 | J7: =F7*$J$5 -> 1080000 | K7: =F7*$K$5 -> 219240 | L7: =SUM(I7:K7) -> 1659240 | M7: =+(H7)*$M$5 -> 841330 | N7: =H7*$N$5 -> 841330 | O7: =H7*$O$5 -> 101000 | P7: =F7*$P$5 -> 375300 | Q7: =F7*$Q$5 -> 270000 | R7: =SUM(M7:Q7) -> 2428960 | S7: =+H7+L7+R7 -> 14188200
A8: Marzo | B8: =+'Presupuesto de consumo de MPD'!E7 -> 1292.2 | C8: =B8*'Procesos Top-Leggins'!$B$7 -> 77532 | D8: =C8/60 -> 1292.2 | E8: =ROUND(D8/182,0) -> 7 | F8: =+$F$5*E8 -> 12600000 | G8: =+$G$5*E8 -> 1540000 | H8: =SUM(F8:G8) -> 14140000 | I8: =F8*$I$5 -> 504000 | J8: =F8*$J$5 -> 1512000 | K8: =F8*$K$5 -> 306936 | L8: =SUM(I8:K8) -> 2322936 | M8: =+(H8)*$M$5 -> 1177862 | N8: =H8*$N$5 -> 1177862 | O8: =H8*$O$5 -> 141400 | P8: =F8*$P$5 -> 525420 | Q8: =F8*$Q$5 -> 378000 | R8: =SUM(M8:Q8) -> 3400544 | S8: =+H8+L8+R8 -> 19863480
A9: Abril | B9: =+'Presupuesto de consumo de MPD'!E8 -> 1465.1 | C9: =B9*'Procesos Top-Leggins'!$B$7 -> 87906 | D9: =C9/60 -> 1465.1 | E9: =ROUND(D9/182,0) -> 8 | F9: =+$F$5*E9 -> 14400000 | G9: =+$G$5*E9 -> 1760000 | H9: =SUM(F9:G9) -> 16160000 | I9: =F9*$I$5 -> 576000 | J9: =F9*$J$5 -> 1728000 | K9: =F9*$K$5 -> 350784 | L9: =SUM(I9:K9) -> 2654784 | M9: =+(H9)*$M$5 -> 1346128 | N9: =H9*$N$5 -> 1346128 | O9: =H9*$O$5 -> 161600 | P9: =F9*$P$5 -> 600480 | Q9: =F9*$Q$5 -> 432000 | R9: =SUM(M9:Q9) -> 3886336 | S9: =+H9+L9+R9 -> 22701120
A10: Mayo | B10: =+'Presupuesto de consumo de MPD'!E9 -> 1838.2 | C10: =B10*'Procesos Top-Leggins'!$B$7 -> 110292 | D10: =C10/60 -> 1838.2 | E10: =ROUND(D10/182,0) -> 10 | F10: =+$F$5*E10 -> 18000000 | G10: =+$G$5*E10 -> 2200000 | H10: =SUM(F10:G10) -> 20200000 | I10: =F10*$I$5 -> 720000 | J10: =F10*$J$5 -> 2160000 | K10: =F10*$K$5 -> 438480 | L10: =SUM(I10:K10) -> 3318480 | M10: =+(H10)*$M$5 -> 1682660 | N10: =H10*$N$5 -> 1682660 | O10: =H10*$O$5 -> 202000 | P10: =F10*$P$5 -> 750600 | Q10: =F10*$Q$5 -> 540000 | R10: =SUM(M10:Q10) -> 4857920 | S10: =+H10+L10+R10 -> 28376400
A11: Junio | B11: =+'Presupuesto de consumo de MPD'!E10 -> 1820 | C11: =B11*'Procesos Top-Leggins'!$B$7 -> 109200 | D11: =C11/60 -> 1820 | E11: =ROUND(D11/182,0) -> 10 | F11: =+$F$5*E11 -> 18000000 | G11: =+$G$5*E11 -> 2200000 | H11: =SUM(F11:G11) -> 20200000 | I11: =F11*$I$5 -> 720000 | J11: =F11*$J$5 -> 2160000 | K11: =F11*$K$5 -> 438480 | L11: =SUM(I11:K11) -> 3318480 | M11: =+(H11)*$M$5 -> 1682660 | N11: =H11*$N$5 -> 1682660 | O11: =H11*$O$5 -> 202000 | P11: =F11*$P$5 -> 750600 | Q11: =F11*$Q$5 -> 540000 | R11: =SUM(M11:Q11) -> 4857920 | S11: =+H11+L11+R11 -> 28376400
A12: Julio | B12: =+'Presupuesto de consumo de MPD'!E11 -> 1437.8 | C12: =B12*'Procesos Top-Leggins'!$B$7 -> 86268 | D12: =C12/60 -> 1437.8 | E12: =ROUND(D12/182,0) -> 8 | F12: =+$F$5*E12 -> 14400000 | G12: =+$G$5*E12 -> 1760000 | H12: =SUM(F12:G12) -> 16160000 | I12: =F12*$I$5 -> 576000 | J12: =F12*$J$5 -> 1728000 | K12: =F12*$K$5 -> 350784 | L12: =SUM(I12:K12) -> 2654784 | M12: =+(H12)*$M$5 -> 1346128 | N12: =H12*$N$5 -> 1346128 | O12: =H12*$O$5 -> 161600 | P12: =F12*$P$5 -> 600480 | Q12: =F12*$Q$5 -> 432000 | R12: =SUM(M12:Q12) -> 3886336 | S12: =+H12+L12+R12 -> 22701120
A13: Agosto | B13: =+'Presupuesto de consumo de MPD'!E12 -> 1264.9 | C13: =B13*'Procesos Top-Leggins'!$B$7 -> 75894 | D13: =C13/60 -> 1264.9 | E13: =ROUND(D13/182,0) -> 7 | F13: =+$F$5*E13 -> 12600000 | G13: =+$G$5*E13 -> 1540000 | H13: =SUM(F13:G13) -> 14140000 | I13: =F13*$I$5 -> 504000 | J13: =F13*$J$5 -> 1512000 | K13: =F13*$K$5 -> 306936 | L13: =SUM(I13:K13) -> 2322936 | M13: =+(H13)*$M$5 -> 1177862 | N13: =H13*$N$5 -> 1177862 | O13: =H13*$O$5 -> 141400 | P13: =F13*$P$5 -> 525420 | Q13: =F13*$Q$5 -> 378000 | R13: =SUM(M13:Q13) -> 3400544 | S13: =+H13+L13+R13 -> 19863480
A14: Septiembre | B14: =+'Presupuesto de consumo de MPD'!E13 -> 1465.1 | C14: =B14*'Procesos Top-Leggins'!$B$7 -> 87906 | D14: =C14/60 -> 1465.1 | E14: =ROUND(D14/182,0) -> 8 | F14: =+$F$5*E14 -> 14400000 | G14: =+$G$5*E14 -> 1760000 | H14: =SUM(F14:G14) -> 16160000 | I14: =F14*$I$5 -> 576000 | J14: =F14*$J$5 -> 1728000 | K14: =F14*$K$5 -> 350784 | L14: =SUM(I14:K14) -> 2654784 | M14: =+(H14)*$M$5 -> 1346128 | N14: =H14*$N$5 -> 1346128 | O14: =H14*$O$5 -> 161600 | P14: =F14*$P$5 -> 600480 | Q14: =F14*$Q$5 -> 432000 | R14: =SUM(M14:Q14) -> 3886336 | S14: =+H14+L14+R14 -> 22701120
A15: Octubre | B15: =+'Presupuesto de consumo de MPD'!E14 -> 2220.4 | C15: =B15*'Procesos Top-Leggins'!$B$7 -> 133224 | D15: =C15/60 -> 2220.4 | E15: =ROUND(D15/182,0) -> 12 | F15: =+$F$5*E15 -> 21600000 | G15: =+$G$5*E15 -> 2640000 | H15: =SUM(F15:G15) -> 24240000 | I15: =F15*$I$5 -> 864000 | J15: =F15*$J$5 -> 2592000 | K15: =F15*$K$5 -> 526176 | L15: =SUM(I15:K15) -> 3982176 | M15: =+(H15)*$M$5 -> 2019192 | N15: =H15*$N$5 -> 2019192 | O15: =H15*$O$5 -> 242400 | P15: =F15*$P$5 -> 900720 | Q15: =F15*$Q$5 -> 648000 | R15: =SUM(M15:Q15) -> 5829504 | S15: =+H15+L15+R15 -> 34051680
A16: Noviembre | B16: =+'Presupuesto de consumo de MPD'!E15 -> 2757.3 | C16: =B16*'Procesos Top-Leggins'!$B$7 -> 165438 | D16: =C16/60 -> 2757.3 | E16: =ROUND(D16/182,0) -> 15 | F16: =+$F$5*E16 -> 27000000 | G16: =+$G$5*E16 -> 3300000 | H16: =SUM(F16:G16) -> 30300000 | I16: =F16*$I$5 -> 1080000 | J16: =F16*$J$5 -> 3240000 | K16: =F16*$K$5 -> 657720 | L16: =SUM(I16:K16) -> 4977720 | M16: =+(H16)*$M$5 -> 2523990 | N16: =H16*$N$5 -> 2523990 | O16: =H16*$O$5 -> 303000 | P16: =F16*$P$5 -> 1125900 | Q16: =F16*$Q$5 -> 810000 | R16: =SUM(M16:Q16) -> 7286880 | S16: =+H16+L16+R16 -> 42564600
A17: Diciembre | B17: =+'Presupuesto de consumo de MPD'!E16 -> 1073.5 | C17: =B17*'Procesos Top-Leggins'!$B$7 -> 64410 | D17: =C17/60 -> 1073.5 | E17: =ROUND(D17/182,0) -> 6 | F17: =+$F$5*E17 -> 10800000 | G17: =+$G$5*E17 -> 1320000 | H17: =SUM(F17:G17) -> 12120000 | I17: =F17*$I$5 -> 432000 | J17: =F17*$J$5 -> 1296000 | K17: =F17*$K$5 -> 263088 | L17: =SUM(I17:K17) -> 1991088 | M17: =+(H17)*$M$5 -> 1009596 | N17: =H17*$N$5 -> 1009596 | O17: =H17*$O$5 -> 121200 | P17: =F17*$P$5 -> 450360 | Q17: =F17*$Q$5 -> 324000 | R17: =SUM(M17:Q17) -> 2914752 | S17: =+H17+L17+R17 -> 17025840
A18: TOTAL AÑO | B18: =+SUM(B6:B17) -> 18350 | C18: =+SUM(C6:C17) -> 1101000 | D18: =+SUM(D6:D17) -> 18350 | E18: =+SUM(E6:E17) -> 100 | F18: =SUM(F6:F17) -> 180000000 | G18: =SUM(G6:G17) -> 22000000 | H18: =SUM(H6:H17) -> 202000000 | I18: =SUM(I6:I17) -> 7200000 | J18: =SUM(J6:J17) -> 21600000 | K18: =SUM(K6:K17) -> 4384800 | L18: =SUM(L6:L17) -> 33184800 | M18: =SUBTOTAL(109,M6:M17) -> 16826600 | N18: =SUBTOTAL(109,N6:N17) -> 16826600 | O18: =SUBTOTAL(109,O6:O17) -> 2020000 | P18: =SUBTOTAL(109,P6:P17) -> 7506000 | Q18: =SUBTOTAL(109,Q6:Q17) -> 5400000 | R18: =SUBTOTAL(109,R6:R17) -> 48579200 | S18: =SUBTOTAL(109,S6:S17) -> 283764000

Sheet Datos Ppto de CIF
A1: DATOS GENERALES PARA CALCULAR LOS CIF
A2: CIF FIJOS mensuales 2025 | B2: Arrendamiento de bodega | C2: 5000000 | H2: Depreciacion de maquinaria
B3: Seguros | C3: 500000 | H3: 120000000 | I3: Vida util en meses | J3: 120 | K3: =+H3/J3 -> 1000000
B4: Mano de obra indirecta | C4: 3000000
B5: Depreciaciones linea recta | C5: 1000000
B6: Vigilancia | C6: 1000000
B8: TOTAL CIF FIJOS | C8: =SUM(C2:C7) -> 10500000
B9: TOTAL CIF FIJOS (SemiV) | C9: =J38 -> 1916667
B10: TOTAL CIF FIJOS X MES | C10: =SUM(C8:C9) -> 12416667
F11: y= a+b*X
A12: CIF VARIABLES Históricos | B12: CONCEPTO | C12: AÑO | D12: UNID. PROD | E12: COSTO TOTAL | F12: 10500000
B13: Material de empaque e indirectos | C13: 2021 | D13: 12000 | E13: 9000000 | F13: PUNTO BAJO | G13: =D13 -> 12000 | H13: =E13 -> 9000000 | K13: Y = a + b(x) → Material de Empaque
C14: 2022 | D14: 15000 | E14: 9000000 | K14: 72.000.000 = a + 500 (120.000) | N14: 9.000.000 = a + b (12.000)
C15: 2023 | D15: 13000 | E15: 9000000 | I15: y= a+(b*X) | K15: 72.000.000 = a + 60.000.000 | N15: 9.000.000 = a + 6.000.000
C16: 2024 | D16: 15000 | E16: 10000000 | K16: a = 12.000.000 | N16: a = 3.000.000
C17: 2025 | D17: 18000 | E17: 12000000 | F17: PUNTO ALTO | G17: =D17 -> 18000 | H17: =E17 -> 12000000 | I17: UNIDADES | K17: b = 3.000.000 / 12 = 250.000 → mes
G18: =G17-G13 -> 6000 | H18: =H17-H13 -> 3000000 | I18: =H18/G18 -> 500 | J18: 250000
B19: Aseo y cafeteria | C19: 2021 | D19: 12000 | E19: 10000000 | F19: PUNTO BAJO | G19: 12000 | H19: 10000000 | K19: PASO 2 – Energía Eléctrica
C20: 2022 | D20: 15000 | E20: 12000000 | K20: 16.000.000 = a + 1000 (18.000)
C21: 2023 | D21: 13000 | E21: 13000000 | K21: 16.000.000 = a + 18.000.000
C22: 2024 | D22: 15000 | E22: 13000000 | K22: a = 18.000.000 - 16.000.000
C23: 2025 | D23: 18000 | E23: 16000000 | F23: PUNTO ALTO | G23: 18000 | H23: 16000000 | I23: UNIDADES | K23: a = 2.000.000 / 12 = 166.667 → mes
G24: =G23-G19 -> 6000 | H24: =H23-H19 -> 6000000 | I24: =H24/G24 -> 1000 | J24: 166667
B25: Servicios Publicos | C25: 2021 | D25: 12000 | E25: 24000000 | F25: PUNTO BAJO | G25: 12000 | H25: 24000000 | K25: Servicios Públicos
C26: 2022 | D26: 15000 | E26: 26000000 | K26: 30.000.000 = a + 1000 (18.000)
C27: 2023 | D27: 13000 | E27: 25000000 | K27: 30.000.000 = a + 18.000.000
C28: 2024 | D28: 15000 | E28: 27000000 | K28: a = 30.000.000 - 18.000.000
C29: 2025 | D29: 18000 | E29: 30000000 | F29: PUNTO ALTO | G29: 18000 | H29: 30000000 | I29: UNIDADES | K29: a = 12.000.000 / 12 = 1.000.000 → mes
G30: =G29-G25 -> 6000 | H30: =H29-H25 -> 6000000 | I30: =H30/G30 -> 1000 | J30: 1000000
B31: Mantenimiento, lubricantes y repuestos | C31: 2021 | D31: 12000 | E31: 6000000 | F31: PUNTO BAJO | G31: 12000 | H31: 6000000 | K31: Mantenimiento
C32: 2022 | D32: 15000 | E32: 7000000 | K32: 12.000.000 = a + 1000 (10.000)
C33: 2023 | D33: 13000 | E33: 7000000 | K33: 12.000.000 = a + 10.000.000
C34: 2024 | D34: 15000 | E34: 8000000 | K34: a = 18.000.000 - 12.000.000 = 6.000.000 / 12
C35: 2025 | D35: 18000 | E35: 12000000 | F35: PUNTO ALTO | G35: 18000 | H35: 12000000 | I35: UNIDADES | K35: a = 500.000 → mes
G36: =G35-G31 -> 6000 | H36: =H35-H31 -> 6000000 | I36: =H36/G36 -> 1000 | J36: 500000
B37: Y=a+b*X
H38: TOTALES | I38: =SUM(I18:I36) -> 3500 | J38: =SUM(J18:J36) -> 1916667
B39: CIF PRESUPUESTO= FIJA + SEMI UNIDAD

Sheet Ppto de Cif
A1: PRESUPUESTO DE CIF AÑO 2026
A2: MES | B2: PPTO PROD. | C2: CIF FIJOS X MES | D2: CIF VARIABLES POR MES | E2: TOTAL CIF | F2: NOTA: LOS 3.500 SALEN DE LAS SUMA DE LAS UNIDADES DE LA SEMI VARIABLE
A3: Enero | B3: =+'Presupuesto MOD 2026'!B6 -> 805.5 | C3: =+'Datos Ppto de CIF'!$C$10 -> 12416667 | D3: =+B3*'Datos Ppto de CIF'!$I$38 -> 2819250 | E3: =C3+D3 -> 15235917 | F3: Mat. x Emp: 3.000.000 + 500(x) | G3: 500
A4: Febrero | B4: =+'Presupuesto MOD 2026'!B7 -> 910 | C4: =+'Datos Ppto de CIF'!$C$10 -> 12416667 | D4: =+B4*'Datos Ppto de CIF'!$I$38 -> 3185000 | E4: =C4+D4 -> 15601667 | F4: Aseo y Caf: 2.000.000 + 1.000(x) | G4: 1000
A5: Marzo | B5: =+'Presupuesto MOD 2026'!B8 -> 1292.2 | C5: =+'Datos Ppto de CIF'!$C$10 -> 12416667 | D5: =+B5*'Datos Ppto de CIF'!$I$38 -> 4522700 | E5: =C5+D5 -> 16939367 | F5: Serv. pub: 12.000.000 + 1.000(x) | G5: 1000
A6: Abril | B6: =+'Presupuesto MOD 2026'!B9 -> 1465.1 | C6: =+'Datos Ppto de CIF'!$C$10 -> 12416667 | D6: =+B6*'Datos Ppto de CIF'!$I$38 -> 5127850 | E6: =C6+D6 -> 17544517 | F6: Mto y Lobr: 6.000.000 + 1.000(x) | G6: 1000
A7: Mayo | B7: =+'Presupuesto MOD 2026'!B10 -> 1838.2 | C7: =+'Datos Ppto de CIF'!$C$10 -> 12416667 | D7: =+B7*'Datos Ppto de CIF'!$I$38 -> 6433700 | E7: =C7+D7 -> 18850367 | F7: Total: 3.500 | G7: =SUM(G3:G6) -> 3500
A8: Junio | B8: =+'Presupuesto MOD 2026'!B11 -> 1820 | C8: =+'Datos Ppto de CIF'!$C$10 -> 12416667 | D8: =+B8*'Datos Ppto de CIF'!$I$38 -> 6370000 | E8: =C8+D8 -> 18786667
A9: Julio | B9: =+'Presupuesto MOD 2026'!B12 -> 1437.8 | C9: =+'Datos Ppto de CIF'!$C$10 -> 12416667 | D9: =+B9*'Datos Ppto de CIF'!$I$38 -> 5032300 | E9: =C9+D9 -> 17448967 | F9: 23.000.000 ÷ 12 = 1.916.667
A10: Agosto | B10: =+'Presupuesto MOD 2026'!B13 -> 1264.9 | C10: =+'Datos Ppto de CIF'!$C$10 -> 12416667 | D10: =+B10*'Datos Ppto de CIF'!$I$38 -> 4427150 | E10: =C10+D10 -> 16843817
A11: Septiembre | B11: =+'Presupuesto MOD 2026'!B14 -> 1465.1 | C11: =+'Datos Ppto de CIF'!$C$10 -> 12416667 | D11: =+B11*'Datos Ppto de CIF'!$I$38 -> 5127850 | E11: =C11+D11 -> 17544517
A12: Octubre | B12: =+'Presupuesto MOD 2026'!B15 -> 2220.4 | C12: =+'Datos Ppto de CIF'!$C$10 -> 12416667 | D12: =+B12*'Datos Ppto de CIF'!$I$38 -> 7771400 | E12: =C12+D12 -> 20188067
A13: Noviembre | B13: =+'Presupuesto MOD 2026'!B16 -> 2757.3 | C13: =+'Datos Ppto de CIF'!$C$10 -> 12416667 | D13: =+B13*'Datos Ppto de CIF'!$I$38 -> 9650550 | E13: =C13+D13 -> 22067217
A14: Diciembre | B14: =+'Presupuesto MOD 2026'!B17 -> 1073.5 | C14: =+'Datos Ppto de CIF'!$C$10 -> 12416667 | D14: =+B14*'Datos Ppto de CIF'!$I$38 -> 3757250 | E14: =C14+D14 -> 16173917
A15: TOTALES | B15: =SUM(B3:B14) -> 18350 | C15: =SUM(C3:C14) -> 149000004 | D15: =SUM(D3:D14) -> 64225000 | E15: =SUM(E3:E14) -> 213225004

Sheet CEDULA PRESUPUESTAL
B2: Cédula: Presupuesto total
B4: Ventas proyect: 18.200 = P.V. ? | C4: ='Resumen Presup de ventas'!B5 -> 18200
B6: Costos
B7: M.P.D. → $550.902.000 | C7: ='Presupuesto de consumo de MPD'!J70 -> 550902000
B8: M.O.D. → $283.764.000 | C8: ='Presupuesto MOD 2026'!S18 -> 283764000
B9: C.I.F. → $213.225.004 | C9: ='Ppto de Cif'!E15 -> 213225004
B10: COSTO TOTAL | C10: =SUM(C7:C9) -> 1047891004
B12: Costo total: 1.047.891.004 ÷ Ppto de ventas
B13: =+C10/'Resumen Presup de ventas'!B5 -> 57576.429
B15: Concepto | C15: Unidades | D15: Pr. Venta | E15: Totales
B16: Presupuesto de ventas proyectado | C16: ='Resumen Presup de ventas'!B5 -> 18200 | D16: 105000 | E16: =C16*D16 -> 1911000000
B17: Presupuesto de costos | C17: 18200 | D17: =+B13 -> 57576.429 | E17: =+C17*D17 -> 1047891004
C18: Utilidad operacional | E18: =E16-E17 -> 863108996

Sheet Datos para el presupuesto Final
A1: Para proyectar las ventas del año 2026, la empresa tendrá como política central, obtener un margen de rentabilidad en la venta de cada conjunto del 45%, redondeado al múltiplo de 1000 mas cercano.
A2: Los ingresos por aprovechamientos, corresponde al material de desperdicio o sobrante en materias primas que se venden a otras empresas para su reprocesamiento y por lo geeneral se estima en un 1% del valor de las MPD consumidas durante el año
A3: Los gastos diversos corresponden generalmente a los gasto pagados por caja menor y la politica es prsupuestar el 1% de las Ventas Brutas presupuestadas de cada año
A4: Para proyectar los gastos de administración y ventas para el periodo 2026 la propuesta es una vez identificadas las necesidades en cada una de las áreas, aplicar el promedio de la inflación de los ultimos 3 años.
A5: Los ingresos financieros, se proyecta para el año 2026 que tenga un incremento del 8% con relación al año 2025
A6: Los costos por préstamos corresponde a una obligación financiera la cual genera unos costos financieros equivalente al Promedio de la inflación en los ultimos 3 años.
A7: En cuanto a la Utilidad Neta proyectada para la vigencia 2026, la empresa presupuesta, aprovechando el auge del marketing por redes sociales y la cultura del deporte y ejercicio saludable en las personas, un promedio de utilidad neta despues de impuesto de renta entre el 5 y 10%, para dar cumplimiento al retorno de la inversión inicial que se espera se dé en 6 años de los cuales ya han transcurrido 5 años con un nivel de rentabilidad bajo en los ultimos 3 años.

Sheet E de R 
A1: SportLyne S.a.s
A2: Nit: 890 000-00-1
A3: Estado de resultados Integral
A4: De enero a diciembre de 2026
A6: CONCEPTO | B6: 2023 | D6: % | E6: 2024 | G6: % | H6: 2025 | J6: % | K6: 2026 | M6: %
B7: SUBTOTAL | C7: VALORES | E7: SUBTOTAL | F7: VALORES | H7: SUBTOTAL | I7: VALORES | K7: SUBTOTAL | L7: VALORES
A8: Ingresos Netos por actividades ordinarias | C8: =13000*90000 -> 1170000000 | F8: =15000*95000 -> 1425000000 | I8: =18000*100000 -> 1800000000
A9: (Menos) Comercio al por menor y por mayor ventas de…
A10: (Menos Devoluciones y Descuentos en ventas
A11: (Menos) Costo por actividades ordinarias | B11: =+C8*0.65 -> 760500000 | C11: =+B11 -> 760500000 | E11: =+F8*0.65 -> 926250000 | F11: =+E11 -> 926250000 | H11: =+I8*0.7 -> 1260000000 | I11: =+H11 -> 1260000000 | L11: =+K11 -> 0
A12: (Igual) Utilidad por actividades ordinarias | C12: =C8-B11 -> 409500000 | F12: =F8-E11 -> 498750000 | I12: =I8-H11 -> 540000000 | L12: =L8-K11 -> 0
A13: (Más) Otros ingresos | C13: =+B14 -> 3800000 | F13: =+E14 -> 4500000 | I13: =+H14 -> 4900000 | L13: =+K14 -> 0
A14: Aprovechamientos | B14: 3800000 | E14: 4500000 | H14: 4900000
A15: (Menos) Otros gastos no operacionales | C15: =-B16 -> -11700000 | F15: =-E16 -> -14250000 | I15: =-H16 -> -18000000 | L15: =-K16 -> 0
A16: Diversos | B16: 11700000 | E16: 14250000 | H16: 18000000
A17: (Menos) Gastos ordinarios | C17: =+B18+B26 -> 331410000 | F17: =+E18+E26 -> 372900000 | I17: =+H18+H26 -> 412280000 | L17: =+K18+K26 -> 0
A18: Gastos de administración | B18: =SUM(B19:B25) -> 239900000 | E18: =SUM(E19:E25) -> 255100000 | H18: =SUM(H19:H25) -> 282700000 | K18: =SUM(K19:K25) -> 0
A19: Salarios | B19: 85000000 | E19: 93000000 | H19: 102300000
A20: Honorarios | B20: 15000000 | E20: 12000000 | H20: 13200000
A21: Arrendamiento | B21: 54000000 | E21: 60000000 | H21: 66000000
A22: Servicios | B22: 35900000 | E22: 38000000 | H22: 41800000
A23: Seguros | B23: 24000000 | E23: 28600000 | H23: 31400000
A24: Mantenimiento | B24: 18000000 | E24: 17000000 | H24: 19000000
A25: Gastos Legales | B25: 8000000 | E25: 6500000 | H25: 9000000
A26: Gastos de ventas | B26: =+SUM(B27:B32) -> 91510000 | E26: =+SUM(E27:E32) -> 117800000 | H26: =+SUM(H27:H32) -> 129580000 | K26: =+SUM(K27:K32) -> 0
A27: Salarios | B27: 45000000 | E27: 55000000 | H27: 60500000
A28: Impuestos | B28: 8000000 | E28: 12000000 | H28: 13200000
A29: Arrendamiento | B29: 20110000 | E29: 23800000 | H29: 26180000
A30: Servicios | B30: 14200000 | E30: 22000000 | H30: 24200000
A31: Depreciación | B31: 4200000 | E31: 5000000 | H31: 5500000
A33: (Igual) Utilidad ordinaria | C33: =+C12+C13-C15-C17 -> 93590000 | F33: =+F12+F13-F15-F17 -> 144600000 | I33: =+I12+I13-I15-I17 -> 150620000 | L33: =+L12+L13-L15-L17 -> 0
A34: (Más) Ingresos financieros | C34: =+B35 -> 12000000 | F34: =+E35 -> 15400000 | I34: =+H35 -> 16200000 | L34: =+K35 -> 0
A35: Intereses | B35: 12000000 | E35: 15400000 | H35: 16200000
A36: (Menos) Gastos financieros | C36: =-B37 -> -8745000 | F36: =-E37 -> -10705000 | I36: =-H37 -> -14900000 | L36: =-K37 -> 0
A37: Costos por prestamos | B37: 8745000 | E37: 10705000 | H37: 14900000
A38: (Igual) utilidad antes de impuestos | C38: =SUM(C33:C37) -> 96845000 | F38: =SUM(F33:F37) -> 149295000 | I38: =SUM(I33:I37) -> 151920000 | L38: =SUM(L33:L37) -> 0
A39: (Menos) Impuesto a las ganancias 35% | B39: 0.35 | C39: =+C38*B39 -> 33895750 | E39: 0.35 | F39: =+F38*E39 -> 52253250 | H39: 0.35 | I39: =+I38*H39 -> 53172000 | K39: 0.35 | L39: =+L38*K39 -> 0
A40: (Igual) Resultado del ejercicio despues de Impuestos | C40: =+C38-C39 -> 62949250 | F40: =+F38-F39 -> 97041750 | I40: =+I38-I39 -> 98748000 | L40: =+L38-L39 -> 0
A42: Firmas:
A44: Rrepresentante Legal | C44: Revosor Fiscal:
